Workbook

Sheet Ionchur Sonraí
A1: Líon isteach an dáta
A2: 25 Feabhra | B2: Sula dtosaíonn tú
B3: Líon daoine sa teach | C3: 4
B4: Léamh ar an méadar leictreachais ar an 25/2 | C4: 1000
B5: Léamh ar an méadar gáis ar an 25/2 | C5: 1000
B6: An méid calraí a tógadh in aghaidh an lae ar an meán | C6: 3000
A9: 3 Márta | B9: Seachtain 1
B10: Cén léamh atá ar do mhéadar leictreachais an tseachtain seo? | C10: 1200 | D10: ='AN INNEALL!'!C13 -> 18.75 | E10: kgCO2e
B11: Cén léamh atá ar do mhéadar gáis an tseachtain seo? | C11: 1100 | D11: ='AN INNEALL!'!C16 -> 5.725 | E11: kgCO2e
B13: Cén méid peitril a d'úsáid tú (carr)? (lítir) | C13: 0 | D13: ='AN INNEALL!'!C20 -> 0 | E13: kgCO2e
B14: Cén méid díosail a d'úsáid tú (carr)? (lítir) | C14: 0 | D14: ='AN INNEALL!'!C22 -> 0 | E14: kgCO2e
B15: Cé chomh fada is a thaistil tú ar an mbus? (km) | C15: 50 | D15: ='AN INNEALL!'!C24 -> 4.455 | E15: kgCO2e
B16: Cé chomh fada is a thaistil tú ar an traein? (km) | C16: 150 | D16: ='AN INNEALL!'!C26 -> 9.03 | E16: kgCO2e
B17: Cé chomh fada is a thaistil tú ar an iarnród éadrom? (km) | C17: 0 | D17: ='AN INNEALL!'!C28 -> 0 | E17: kgCO2e
B18: Cé chomh fada is a thaistil tú ar an eitleán(km) | C18: 400 | D18: ='AN INNEALL!'!C30 -> 70.12 | E18: kgCO2e
B19: Cé chomh fada is a thaistil tú ar an mbád farantóireachta? (km) | C19: 0 | D19: ='AN INNEALL!'!C32 -> 0 | E19: kgCO2e
B21: Cá mhéad lá an tseachtain seo ar ith tú réim bia a raibh a lán feola ann (>100g)? | C21: 0 | D21: ='AN INNEALL!'!C39 -> 0 | E21: kgCO2e
B22: Cá mhéad lá an tseachtain seo ar ith tú réim bia a raibh méid measartha feola ann (50-100g)? | C22: 0 | D22: ='AN INNEALL!'!C41 -> 0 | E22: kgCO2e
B23: Cá mhéad lá an tseachtain seo ar ith tú réim bia a raibh beagán feola ann (<50g)? | C23: 0 | D23: ='AN INNEALL!'!C43 -> 0 | E23: kgCO2e
B24: Cá mhéad lá an tseachtain seo ar ith tú réim bia nach raibh aon fheoil ach amháin iasc ann? | C24: 0 | D24: ='AN INNEALL!'!C45 -> 0 | E24: kgCO2e
B25: Cá mhéad lá an tseachtain seo ar ith tú réim bia nach raibh aon fheoil nó iasc ann? | C25: 3 | D25: ='AN INNEALL!'!C47 -> 17.145 | E25: kgCO2e
B26: Cá mhéad lá an tseachtain seo ar ith tú réim bia nach raibh aon fheoil nó táirgí ainmhithe ann? | C26: 4 | D26: ='AN INNEALL!'!C49 -> 17.34 | E26: kgCO2e
A29: 10 Márta | B29: Seachtain 2
B30: Cén léamh atá ar do mhéadar leictreachais an tseachtain seo? | C30: 1200 | D30: ='AN INNEALL!'!D13 -> 0 | E30: kgCO2e
B31: Cén léamh atá ar do mhéadar gáis an tseachtain seo? | C31: 1200 | D31: ='AN INNEALL!'!D16 -> 5.725 | E31: kgCO2e
B33: Cén méid peitril a d'úsáid tú (carr)? (lítir) | C33: 5 | D33: ='AN INNEALL!'!D20 -> 11.775 | E33: kgCO2e
B34: Cén méid díosail a d'úsáid tú (carr)? (lítir) | C34: 0 | D34: ='AN INNEALL!'!D22 -> 0 | E34: kgCO2e
B35: Cé chomh fada is a thaistil tú ar an mbus? (km) | C35: 0 | D35: ='AN INNEALL!'!D24 -> 0 | E35: kgCO2e
B36: Cé chomh fada is a thaistil tú ar an traein? (km) | C36: 0 | D36: ='AN INNEALL!'!D26 -> 0 | E36: kgCO2e
B37: Cé chomh fada is a thaistil tú ar an iarnród éadrom? (km) | C37: 0 | D37: ='AN INNEALL!'!D28 -> 0 | E37: kgCO2e
B38: Cé chomh fada is a thaistil tú ar an eitleán(km) | C38: 0 | D38: ='AN INNEALL!'!D30 -> 0 | E38: kgCO2e
B39: Cé chomh fada is a thaistil tú ar an mbád farantóireachta? (km) | C39: 0 | D39: ='AN INNEALL!'!D32 -> 0 | E39: kgCO2e
B41: Cá mhéad lá an tseachtain seo ar ith tú réim bia a raibh a lán feola ann (>100g)? | C41: 7 | D41: ='AN INNEALL!'!D39 -> 75.495 | E41: kgCO2e
B42: Cá mhéad lá an tseachtain seo ar ith tú réim bia a raibh méid measartha feola ann (50-100g)? | C42: 0 | D42: ='AN INNEALL!'!D41 -> 0 | E42: kgCO2e
B43: Cá mhéad lá an tseachtain seo ar ith tú réim bia a raibh beagán feola ann (<50g)? | C43: 0 | D43: ='AN INNEALL!'!D43 -> 0 | E43: kgCO2e
B44: Cá mhéad lá an tseachtain seo ar ith tú réim bia nach raibh aon fheoil ann ach amháin iasc? | C44: 0 | D44: ='AN INNEALL!'!D45 -> 0 | E44: kgCO2e
B45: Cá mhéad lá an tseachtain seo ar ith tú réim bia nach raibh aon fheoil ar bith ann? | C45: 0 | D45: ='AN INNEALL!'!D47 -> 0 | E45: kgCO2e
B46: Cá mhéad lá an tseachtain seo ar ith tú réim bia nach raibh aon fheoil nó táirgí ainmhithe ann? | C46: 0 | D46: ='AN INNEALL!'!D49 -> 0 | E46: kgCO2e
A49: 17 Márta | B49: Seachtain 3
B50: Cén léamh atá ar do mhéadar leictreachais an tseachtain seo? | C50: 1300 | D50: ='AN INNEALL!'!E13 -> 9.375 | E50: kgCO2e
B51: Cén léamh atá ar do mhéadar gáis an tseachtain seo? | C51: 1300 | D51: ='AN INNEALL!'!E16 -> 5.725 | E51: kgCO2e
B53: Cén méid peitril a d'úsáid tú (carr)? (lítir) | C53: 0 | D53: ='AN INNEALL!'!E20 -> 0 | E53: kgCO2e
B54: Cén méid díosail a d'úsáid tú (carr)? (lítir) | C54: 0 | D54: ='AN INNEALL!'!E22 -> 0 | E54: kgCO2e
B55: Cé chomh fada is a thaistil tú ar an mbus? (km) | C55: 0 | D55: ='AN INNEALL!'!E24 -> 0 | E55: kgCO2e
B56: Cé chomh fada is a thaistil tú ar an traein? (km) | C56: 0 | D56: ='AN INNEALL!'!E26 -> 0 | E56: kgCO2e
B57: Cé chomh fada is a thaistil tú ar an iarnród éadrom? (km) | C57: 0 | D57: ='AN INNEALL!'!E28 -> 0 | E57: kgCO2e
B58: Cé chomh fada is a thaistil tú ar an eitleán(km) | C58: 100 | D58: ='AN INNEALL!'!E30 -> 17.53 | E58: kgCO2e
B59: Cé chomh fada is a thaistil tu ar an mbád farantóireachta? (km) | C59: 0 | D59: ='AN INNEALL!'!E32 -> 0 | E59: kgCO2e
B61: Cá mhéad lá an tseachtain seo ar ith tú réim bia a raibh a lán feola ann (>100g)? | C61: 0 | D61: ='AN INNEALL!'!E39 -> 0 | E61: kgCO2e
B62: Cá mhéad lá an tseachtain seo ar ith tú réim bia a raibh méid measartha feola ann (50-100g)? | C62: 7 | D62: ='AN INNEALL!'!E41 -> 59.115 | E62: kgCO2e
B63: Cá mhéad lá an tseachtain seo ar ith tú réim bia a raibh beagán feola ann (<50g)? | C63: 0 | D63: ='AN INNEALL!'!E43 -> 0 | E63: kgCO2e
B64: Cá mhéad lá an tseachtain seo ar ith tú réim bia nach raibh aon fheoil ann ach amháin iasc? | C64: 0 | D64: ='AN INNEALL!'!E45 -> 0 | E64: kgCO2e
B65: Cá mhéad lá an tseachtain seo ar ith tú réim bia nach raibh aon fheoil ar bith ann? | C65: 0 | D65: ='AN INNEALL!'!E47 -> 0 | E65: kgCO2e
B66: Cá mhéad lá an tseachtain seo ar ith tú réim bia nach raibh aon fheoil nó táirgí ainmhithe ann? | C66: 0 | D66: ='AN INNEALL!'!E49 -> 0 | E66: kgCO2e
A69: 24 Márta | B69: Seachtain 4
B70: Cén léamh atá ar do mhéadar leictreachais an tseachtain seo? | C70: 1400 | D70: ='AN INNEALL!'!F13 -> 9.375 | E70: kgCO2e
B71: Cén léamh atá ar do mhéadar gáis an tseachtain seo? | C71: 1400 | D71: ='AN INNEALL!'!F16 -> 5.725 | E71: kgCO2e
B73: Cén méid peitril a d'úsáid tú (carr)? (lítir) | C73: 0 | D73: ='AN INNEALL!'!F20 -> 0 | E73: kgCO2e
B74: Cén méid díosail a d'úsáid tú (carr)? (lítir) | C74: 0 | D74: ='AN INNEALL!'!F22 -> 0 | E74: kgCO2e
B75: Cé chomh fada is a thaistil tú ar an mbus? (km) | C75: 0 | D75: ='AN INNEALL!'!F24 -> 0 | E75: kgCO2e
B76: Cé chomh fada is a thaistil tú ar an traein? (km) | C76: 0 | D76: ='AN INNEALL!'!F26 -> 0 | E76: kgCO2e
B77: Cé chomh fada is a thaistil tú ar an iarnród eadtrom? (km) | C77: 0 | D77: ='AN INNEALL!'!F28 -> 0 | E77: kgCO2e
B78: Cé chomh fada is a thaistil tú ar an eitleán(km) | C78: 0 | D78: ='AN INNEALL!'!F30 -> 0 | E78: kgCO2e
B79: Cé chomh fada is a thaistil tu ar an mbád farantóireachta? (km) | C79: 100 | D79: ='AN INNEALL!'!F32 -> 12 | E79: kgCO2e
B81: Cá mhéad lá an tseachtain seo ar ith tú réim bia a raibh a lán feola ann (>100g)? | C81: 0 | D81: ='AN INNEALL!'!F39 -> 0 | E81: kgCO2e
B82: Cá mhéad lá an tseachtain seo ar ith tú réim bia a raibh méid measartha feola ann (50-100g)? | C82: 0 | D82: ='AN INNEALL!'!F41 -> 0 | E82: kgCO2e
B83: Cá mhéad lá an tseachtain seo ar ith tú réim bia a raibh beagán feola ann (<50g)? | C83: 7 | D83: ='AN INNEALL!'!F43 -> 49.035 | E83: kgCO2e
B84: Cá mhéad lá an tseachtain seo ar ith tú réim bia nach raibh aon fheoil ann ach amháin iasc? | C84: 0 | D84: ='AN INNEALL!'!F45 -> 0 | E84: kgCO2e
B85: Cá mhéad lá an tseachtain seo ar ith tú réim bia nach raibh aon fheoil ar bith ann? | C85: 0 | D85: ='AN INNEALL!'!F47 -> 0 | E85: kgCO2e
B86: Cá mhéad lá an tseachtain seo ar ith tú réim bia nach raibh aon fheoil nó táirgí ainmhithe ann? | C86: 0 | D86: ='AN INNEALL!'!F49 -> 0 | E86: kgCO2e
A89: 31 Márta | B89: Seachtain 5
B90: Cén léamh atá ar do mhéadar leictreachais an tseachtain seo? | C90: 1500 | D90: ='AN INNEALL!'!G13 -> 9.375 | E90: kgCO2e
B91: Cén léamh atá ar do mhéadar gáis an tseachtain seo? | C91: 1500 | D91: ='AN INNEALL!'!G16 -> 5.725 | E91: kgCO2e
B93: Cén méid peitril a d'úsáid tú (carr)? (lítir) | C93: 0 | D93: ='AN INNEALL!'!G20 -> 0 | E93: kgCO2e
B94: Cén méid díosail a d'úsáid tú (carr)? (lítir) | C94: 0 | D94: ='AN INNEALL!'!G22 -> 0 | E94: kgCO2e
B95: Cé chomh fada is a thaistil tú ar an mbus? (km) | C95: 0 | D95: ='AN INNEALL!'!G24 -> 0 | E95: kgCO2e
B96: Cé chomh fada is a thaistil tú ar an traein? (km) | C96: 500 | D96: ='AN INNEALL!'!G26 -> 30.1 | E96: kgCO2e
B97: Cé chomh fada is a thaistil tú ar an iarnród eadtrom? (km) | C97: 0 | D97: ='AN INNEALL!'!G28 -> 0 | E97: kgCO2e
B98: Cé chomh fada is a thaistil tú ar an eitleán(km) | C98: 0 | D98: ='AN INNEALL!'!G30 -> 0 | E98: kgCO2e
B99: Cé chomh fada is a thaistil tú ar an mbád farantóireachta? (km) | C99: 0 | D99: ='AN INNEALL!'!G32 -> 0 | E99: kgCO2e
B101: Cá mhéad lá an tseachtain seo ar ith tú réim bia a raibh a lán feola ann (>100g)? | C101: 0 | D101: ='AN INNEALL!'!G39 -> 0 | E101: kgCO2e
B102: Cá mhéad lá an tseachtain seo ar ith tú réim bia a raibh méid measartha feola ann (50-100g)? | C102: 0 | D102: ='AN INNEALL!'!G41 -> 0 | E102: kgCO2e
B103: Cá mhéad lá an tseachtain seo ar ith tú réim bia a raibh beagán feola ann (<50g)? | C103: 0 | D103: ='AN INNEALL!'!G43 -> 0 | E103: kgCO2e
B104: Cá mhéad lá an tseachtain seo ar ith tú réim bia nach raibh aon fheoil ann ach amháin iasc? | C104: 7 | D104: ='AN INNEALL!'!G45 -> 41.055 | E104: kgCO2e
B105: Cá mhéad lá an tseachtain seo ar ith tú réim bia nach raibh aon fheoil ar bith ann? | C105: 0 | D105: ='AN INNEALL!'!G47 -> 0 | E105: kgCO2e
B106: Cá mhéad lá an tseachtain seo ar ith tú réim bia nach raibh aon fheoil nó táirgí ainmhithe ann? | C106: 0 | D106: ='AN INNEALL!'!G49 -> 0 | E106: kgCO2e
A109: 7 Aibreán | B109: Week 6
B110: Cén léamh atá ar do mhéadar leictreachais an tseachtain seo? | C110: 1600 | D110: ='AN INNEALL!'!H13 -> 9.375 | E110: kgCO2e
B111: Cén léamh atá ar do mhéadar gáis an tseachtain seo? | C111: 1600 | D111: ='AN INNEALL!'!H16 -> 5.725 | E111: kgCO2e
B113: Cén méid peitril a d'úsáid tú (carr)? (lítir) | C113: 0 | D113: ='AN INNEALL!'!H20 -> 0 | E113: kgCO2e
B114: Cén méid díosail a d'úsáid tú (carr)? (lítir) | C114: 10 | D114: ='AN INNEALL!'!H22 -> 26.83 | E114: kgCO2e
B115: Cé chomh fada is a thaistil tú ar an mbus? (km) | C115: 0 | D115: ='AN INNEALL!'!H24 -> 0 | E115: kgCO2e
B116: Cé chomh fada is a thaistil tú ar an traein? (km) | C116: 0 | D116: ='AN INNEALL!'!H26 -> 0 | E116: kgCO2e
B117: Cé chomh fada is a thaistil tú ar an iarnród eadtrom? (km) | C117: 0 | D117: ='AN INNEALL!'!H28 -> 0 | E117: kgCO2e
B118: Cé chomh fada is a thaistil tú ar an eitleán(km) | C118: 0 | D118: ='AN INNEALL!'!H30 -> 0 | E118: kgCO2e
B119: Cé chomh fada is a thaistil tu ar an mbád farantóireachta? (km) | C119: 0 | D119: ='AN INNEALL!'!H32 -> 0 | E119: kgCO2e
B121: Cá mhéad lá an tseachtain seo ar ith tú réim bia a raibh a lán feola ann (>100g)? | C121: 0 | D121: ='AN INNEALL!'!H39 -> 0 | E121: kgCO2e
B122: Cá mhéad lá an tseachtain seo ar ith tú réim bia a raibh méid measartha feola ann (50-100g)? | C122: 0 | D122: ='AN INNEALL!'!H41 -> 0 | E122: kgCO2e
B123: Cá mhéad lá an tseachtain seo ar ith tú réim bia a raibh beagán feola ann (<50g)? | C123: 0 | D123: ='AN INNEALL!'!H43 -> 0 | E123: kgCO2e
B124: Cá mhéad lá an tseachtain seo ar ith tú réim bia nach raibh aon fheoil ann ach amháin iasc? | C124: 0 | D124: ='AN INNEALL!'!H45 -> 0 | E124: kgCO2e
...

Sheet Staitisticí agus Cairteacha
A1: Carghas Gan Carbóin
A2: Is é do lorg carbóin iomlán ná: | H2: ='AN INNEALL!'!I59 -> 640.625 | I2: kgCO2e

Sheet AN INNEALL!
A1: HELLO! YOU ARE NOW UNDER THE BONNET OF THE CARBON NEUTRAL LENT SPREADSHEET.
A3: Anything you change here may mess up all the beautiful charts etc.
B5: 3.2 | C5: 3.75 | D5: 10.8 | E5: =C5*D5 -> 40.5
A6: Envirolent Data Collection | C6: Seachtain 1 | D6: Seachtain 2 | E6: Seachtain 3 | F6: Seachtain 4 | G6: Seachtain 5 | H6: Seachtain 6 | I6: Seachtain 7 | J6: Total | K6: Carbon total (kg)
A7: Household | M7: Electricity | N7: 0.375
A8: No. of people in the house | B8: ='Ionchur Sonraí'!C3 -> 4
A9: Reading on electricity meter on 26/2 | B9: ='Ionchur Sonraí'!C4 -> 1000
A10: Reading on gas meter on 26/2 | B10: ='Ionchur Sonraí'!C5 -> 1000
A11: Reading on electricity meter at the end of each Seachtain | C11: ='Ionchur Sonraí'!C10 -> 1200 | D11: ='Ionchur Sonraí'!C30 -> 1200 | E11: ='Ionchur Sonraí'!C50 -> 1300 | F11: ='Ionchur Sonraí'!C70 -> 1400 | G11: ='Ionchur Sonraí'!C90 -> 1500 | H11: ='Ionchur Sonraí'!C110 -> 1600 | I11: ='Ionchur Sonraí'!C130 -> 1700 | K11: =J11*N7 -> 0 | M11: Diesel | N11: 2.683
C12: =C11-B9 -> 200 | D12: =D11-C11 -> 0 | E12: =E11-D11 -> 100 | F12: =F11-E11 -> 100 | G12: =G11-F11 -> 100 | H12: =H11-G11 -> 100 | I12: =I11-H11 -> 100
A13: Emissions from electricity | C13: =(C12)/$B$8*$N$7 -> 18.75 | D13: =(D12)/$B$8*$N$7 -> 0 | E13: =(E12)/$B$8*$N$7 -> 9.375 | F13: =(F12)/$B$8*$N$7 -> 9.375 | G13: =(G12)/$B$8*$N$7 -> 9.375 | H13: =(H12)/$B$8*$N$7 -> 9.375 | I13: =(I12)/$B$8*$N$7 -> 9.375 | J13: =SUM(C13:I13) -> 65.625
A14: Gas (KwH) | C14: ='Ionchur Sonraí'!C11 -> 1100 | D14: ='Ionchur Sonraí'!C31 -> 1200 | E14: ='Ionchur Sonraí'!C51 -> 1300 | F14: ='Ionchur Sonraí'!C71 -> 1400 | G14: ='Ionchur Sonraí'!C91 -> 1500 | H14: ='Ionchur Sonraí'!C111 -> 1600 | I14: ='Ionchur Sonraí'!C131 -> 1700 | J14: =SUM(C14:I14) -> 9800 | K14: =J14*N18 -> 2244.2 | M14: Petrol | N14: 2.355
C15: =C14-B10 -> 100 | D15: =D14-C14 -> 100 | E15: =E14-D14 -> 100 | F15: =F14-E14 -> 100 | G15: =G14-F14 -> 100 | H15: =H14-G14 -> 100 | I15: =I14-H14 -> 100
A16: Emissions from heating | C16: =(C15)/$B$8*$N$18 -> 5.725 | D16: =(D15)/$B$8*$N$18 -> 5.725 | E16: =(E15)/$B$8*$N$18 -> 5.725 | F16: =(F15)/$B$8*$N$18 -> 5.725 | G16: =(G15)/$B$8*$N$18 -> 5.725 | H16: =(H15)/$B$8*$N$18 -> 5.725 | I16: =(I15)/$B$8*$N$18 -> 5.725 | J16: =SUM(C16:I16) -> 40.075 | M16: Kerosene (heating oil) | N16: 2.957
J17: =SUM(C17:I17) -> 0
A18: Transport | J18: =SUM(C18:I18) -> 0 | M18: Gas kwh | N18: 0.229
A19: Own car (Petrol) litres used | C19: ='Ionchur Sonraí'!C13 -> 0 | D19: ='Ionchur Sonraí'!C33 -> 5 | E19: ='Ionchur Sonraí'!C53 -> 0 | F19: ='Ionchur Sonraí'!C73 -> 0 | G19: ='Ionchur Sonraí'!C93 -> 0 | H19: ='Ionchur Sonraí'!C113 -> 0 | I19: ='Ionchur Sonraí'!C133 -> 10 | K19: =J19*N14 -> 0
C20: =C19*$N$14 -> 0 | D20: =D19*$N$14 -> 11.775 | E20: =E19*$N$14 -> 0 | F20: =F19*$N$14 -> 0 | G20: =G19*$N$14 -> 0 | H20: =H19*$N$14 -> 0 | I20: =I19*$N$14 -> 23.55 | J20: =SUM(C20:I20) -> 35.325
A21: Own car (Diesel) litres used | C21: ='Ionchur Sonraí'!C14 -> 0 | D21: ='Ionchur Sonraí'!C34 -> 0 | E21: ='Ionchur Sonraí'!C54 -> 0 | F21: ='Ionchur Sonraí'!C74 -> 0 | G21: ='Ionchur Sonraí'!C94 -> 0 | H21: ='Ionchur Sonraí'!C114 -> 10 | I21: ='Ionchur Sonraí'!C134 -> 0 | K21: =J21*N11 -> 0 | M21: Gas m3
C22: =C21*$N$11 -> 0 | D22: =D21*$N$11 -> 0 | E22: =E21*$N$11 -> 0 | F22: =F21*$N$11 -> 0 | G22: =G21*$N$11 -> 0 | H22: =H21*$N$11 -> 26.83 | I22: =I21*$N$11 -> 0 | J22: =SUM(C22:I22) -> 26.83
A23: Bus (approx kms travelled) | C23: ='Ionchur Sonraí'!C15 -> 50 | D23: ='Ionchur Sonraí'!C35 -> 0 | E23: ='Ionchur Sonraí'!C55 -> 0 | F23: ='Ionchur Sonraí'!C75 -> 0 | G23: ='Ionchur Sonraí'!C95 -> 0 | H23: ='Ionchur Sonraí'!C115 -> 0 | I23: ='Ionchur Sonraí'!C135 -> 0 | J23: =SUM(C23:I23) -> 50 | K23: =J23*N27 -> 4.455
C24: =C23*$N$27 -> 4.455 | D24: =D23*$N$27 -> 0 | E24: =E23*$N$27 -> 0 | F24: =F23*$N$27 -> 0 | G24: =G23*$N$27 -> 0 | H24: =H23*$N$27 -> 0 | I24: =I23*$N$27 -> 0 | J24: =J23*$N$27 -> 4.455
A25: Train (approx kms travelled) | C25: ='Ionchur Sonraí'!C16 -> 150 | D25: ='Ionchur Sonraí'!C36 -> 0 | E25: ='Ionchur Sonraí'!C56 -> 0 | F25: ='Ionchur Sonraí'!C76 -> 0 | G25: ='Ionchur Sonraí'!C96 -> 500 | H25: ='Ionchur Sonraí'!C116 -> 0 | I25: ='Ionchur Sonraí'!C136 -> 0 | K25: =J25*N29 -> 0 | M25: Air travel | N25: 0.1753
C26: =C25*$N$29 -> 9.03 | D26: =D25*$N$29 -> 0 | E26: =E25*$N$29 -> 0 | F26: =F25*$N$29 -> 0 | G26: =G25*$N$29 -> 30.1 | H26: =H25*$N$29 -> 0 | I26: =I25*$N$29 -> 0 | J26: =SUM(C26:I26) -> 39.13
A27: Light rail (approx kms travelled) | C27: ='Ionchur Sonraí'!C17 -> 0 | D27: ='Ionchur Sonraí'!C37 -> 0 | E27: ='Ionchur Sonraí'!C57 -> 0 | F27: ='Ionchur Sonraí'!C77 -> 0 | G27: ='Ionchur Sonraí'!C97 -> 0 | H27: ='Ionchur Sonraí'!C117 -> 0 | I27: ='Ionchur Sonraí'!C137 -> 0 | J27: =SUM(C27:I27) -> 0 | K27: =J27*N31 -> 0 | M27: Bus | N27: 0.0891
C28: =C27*$N$31 -> 0 | D28: =D27*$N$31 -> 0 | E28: =E27*$N$31 -> 0 | F28: =F27*$N$31 -> 0 | G28: =G27*$N$31 -> 0 | H28: =H27*$N$31 -> 0 | I28: =I27*$N$31 -> 0 | J28: =SUM(C28:I28) -> 0
A29: Plane (approx kms travelled) | C29: ='Ionchur Sonraí'!C18 -> 400 | D29: ='Ionchur Sonraí'!C38 -> 0 | E29: ='Ionchur Sonraí'!C58 -> 100 | F29: ='Ionchur Sonraí'!C78 -> 0 | G29: ='Ionchur Sonraí'!C98 -> 0 | H29: ='Ionchur Sonraí'!C118 -> 0 | I29: ='Ionchur Sonraí'!C138 -> 0 | K29: =J29*N25 -> 0 | M29: Train | N29: 0.0602
C30: =C29*$N$25 -> 70.12 | D30: =D29*$N$25 -> 0 | E30: =E29*$N$25 -> 17.53 | F30: =F29*$N$25 -> 0 | G30: =G29*$N$25 -> 0 | H30: =H29*$N$25 -> 0 | I30: =I29*$N$25 -> 0 | J30: =SUM(C30:I30) -> 87.65
A31: Ferry | C31: ='Ionchur Sonraí'!C19 -> 0 | D31: ='Ionchur Sonraí'!C39 -> 0 | E31: ='Ionchur Sonraí'!C59 -> 0 | F31: ='Ionchur Sonraí'!C79 -> 100 | G31: ='Ionchur Sonraí'!C99 -> 0 | H31: ='Ionchur Sonraí'!C119 -> 0 | I31: ='Ionchur Sonraí'!C139 -> 0 | J31: =SUM(C31:I31) -> 100 | K31: =J31*N32 -> 12 | M31: Light rail | N31: 0.065
C32: =C31*$N$32 -> 0 | D32: =D31*$N$32 -> 0 | E32: =E31*$N$32 -> 0 | F32: =F31*$N$32 -> 12 | G32: =G31*$N$32 -> 0 | H32: =H31*$N$32 -> 0 | I32: =I31*$N$32 -> 0 | J32: =SUM(C32:I32) -> 12 | M32: Ferry | N32: 0.12
J33: =SUM(C33:I33) -> 0
C34: =C20+C22+C24+C26+C28+C30+C32 -> 83.605 | D34: =D20+D22+D24+D26+D28+D30+D32 -> 11.775 | E34: =E20+E22+E24+E26+E28+E30+E32 -> 17.53 | F34: =F20+F22+F24+F26+F28+F30+F32 -> 12 | G34: =G20+G22+G24+G26+G28+G30+G32 -> 30.1 | H34: =H20+H22+H24+H26+H28+H30+H32 -> 26.83 | I34: =I20+I22+I24+I26+I28+I30+I32 -> 23.55
A35: Food | J35: =SUM(C35:I35) -> 0
A36: Average daily calorie intake approx. | B36: ='Ionchur Sonraí'!C6 -> 3000
A37: For each Seachtain, mark in the number of days that you consumed each of the below diets
A38: High meat consumption (>100g) | C38: ='Ionchur Sonraí'!C21 -> 0 | D38: ='Ionchur Sonraí'!C41 -> 7 | E38: ='Ionchur Sonraí'!C61 -> 0 | F38: ='Ionchur Sonraí'!C81 -> 0 | G38: ='Ionchur Sonraí'!C101 -> 0 | H38: ='Ionchur Sonraí'!C121 -> 0 | I38: ='Ionchur Sonraí'!C141 -> 0
C39: =C38*$B$36/$P$53*$P$42 -> 0 | D39: =D38*$B$36/$P$53*$P$42 -> 75.495 | E39: =E38*$B$36/$P$53*$P$42 -> 0 | F39: =F38*$B$36/$P$53*$P$42 -> 0 | G39: =G38*$B$36/$P$53*$P$42 -> 0 | H39: =H38*$B$36/$P$53*$P$42 -> 0 | I39: =I38*$B$36/$P$53*$P$42 -> 0 | J39: =SUM(C39:I39) -> 75.495
A40: Medium meat consumption (50-100g) | C40: ='Ionchur Sonraí'!C22 -> 0 | D40: ='Ionchur Sonraí'!C42 -> 0 | E40: ='Ionchur Sonraí'!C62 -> 7 | F40: ='Ionchur Sonraí'!C82 -> 0 | G40: ='Ionchur Sonraí'!C102 -> 0 | H40: ='Ionchur Sonraí'!C122 -> 0 | I40: ='Ionchur Sonraí'!C142 -> 0 | K40: =J40*B38 -> 0 | O40: Food | P40: KGCO2/day
C41: =C40*$B$36/$P$53*$P$44 -> 0 | D41: =D40*$B$36/$P$53*$P$44 -> 0 | E41: =E40*$B$36/$P$53*$P$44 -> 59.115 | F41: =F40*$B$36/$P$53*$P$44 -> 0 | G41: =G40*$B$36/$P$53*$P$44 -> 0 | H41: =H40*$B$36/$P$53*$P$44 -> 0 | I41: =I40*$B$36/$P$53*$P$44 -> 0 | J41: =SUM(C41:I41) -> 59.115
A42: Low meat consumption (<50g) | C42: ='Ionchur Sonraí'!C23 -> 0 | D42: ='Ionchur Sonraí'!C43 -> 0 | E42: ='Ionchur Sonraí'!C63 -> 0 | F42: ='Ionchur Sonraí'!C83 -> 7 | G42: ='Ionchur Sonraí'!C103 -> 0 | H42: ='Ionchur Sonraí'!C123 -> 0 | I42: ='Ionchur Sonraí'!C143 -> 0 | K42: =J42*B40 -> 0 | O42: High meat consumption (>100g) | P42: 7.19
C43: =C42*$B$36/$P$53*$P$46 -> 0 | D43: =D42*$B$36/$P$53*$P$46 -> 0 | E43: =E42*$B$36/$P$53*$P$46 -> 0 | F43: =F42*$B$36/$P$53*$P$46 -> 49.035 | G43: =G42*$B$36/$P$53*$P$46 -> 0 | H43: =H42*$B$36/$P$53*$P$46 -> 0 | I43: =I42*$B$36/$P$53*$P$46 -> 0 | J43: =SUM(C43:I43) -> 49.035
A44: FIsh (no meat) | C44: ='Ionchur Sonraí'!C24 -> 0 | D44: ='Ionchur Sonraí'!C44 -> 0 | E44: ='Ionchur Sonraí'!C64 -> 0 | F44: ='Ionchur Sonraí'!C84 -> 0 | G44: ='Ionchur Sonraí'!C104 -> 7 | H44: ='Ionchur Sonraí'!C124 -> 0 | I44: ='Ionchur Sonraí'!C144 -> 0 | J44: ='Ionchur Sonraí'!C164 -> 0 | K44: =J44*B42 -> 0 | O44: Medium meat consumption (50-100) | P44: 5.63
C45: =C44*$B$36/$P$53*$P$48 -> 0 | D45: =D44*$B$36/$P$53*$P$48 -> 0 | E45: =E44*$B$36/$P$53*$P$48 -> 0 | F45: =F44*$B$36/$P$53*$P$48 -> 0 | G45: =G44*$B$36/$P$53*$P$48 -> 41.055 | H45: =H44*$B$36/$P$53*$P$48 -> 0 | I45: =I44*$B$36/$P$53*$P$48 -> 0 | J45: =SUM(C45:I45) -> 41.055
A46: Vegetarian | C46: ='Ionchur Sonraí'!C25 -> 3 | D46: ='Ionchur Sonraí'!C45 -> 0 | E46: ='Ionchur Sonraí'!C65 -> 0 | F46: ='Ionchur Sonraí'!C85 -> 0 | G46: ='Ionchur Sonraí'!C105 -> 0 | H46: ='Ionchur Sonraí'!C125 -> 7 | I46: ='Ionchur Sonraí'!C145 -> 0 | J46: ='Ionchur Sonraí'!C165 -> 0 | K46: =J46*B44 -> 0 | O46: Low meat consumption | P46: 4.67
C47: =C46*$B$36/$P$53*$P$50 -> 17.145 | D47: =D46*$B$36/$P$53*$P$50 -> 0 | E47: =E46*$B$36/$P$53*$P$50 -> 0 | F47: =F46*$B$36/$P$53*$P$50 -> 0 | G47: =G46*$B$36/$P$53*$P$50 -> 0 | H47: =H46*$B$36/$P$53*$P$50 -> 40.005 | I47: =I46*$B$36/$P$53*$P$50 -> 0 | J47: =SUM(C47:I47) -> 57.15
A48: Vegan | C48: ='Ionchur Sonraí'!C26 -> 4 | D48: ='Ionchur Sonraí'!C46 -> 0 | E48: ='Ionchur Sonraí'!C66 -> 0 | F48: ='Ionchur Sonraí'!C86 -> 0 | G48: ='Ionchur Sonraí'!C106 -> 0 | H48: ='Ionchur Sonraí'!C126 -> 0 | I48: ='Ionchur Sonraí'!C146 -> 7 | K48: =J48*B46 -> 0 | O48: FIsh (no meat) | P48: 3.91
C49: =C48*$B$36/$P$53*$P$51 -> 17.34 | D49: =D48*$B$36/$P$53*$P$51 -> 0 | E49: =E48*$B$36/$P$53*$P$51 -> 0 | F49: =F48*$B$36/$P$53*$P$51 -> 0 | G49: =G48*$B$36/$P$53*$P$51 -> 0 | H49: =H48*$B$36/$P$53*$P$51 -> 0 | I49: =I48*$B$36/$P$53*$P$51 -> 30.345 | J49: =SUM(C49:I49) -> 47.685
A50: Food total | C50: =C39+C41+C43+C45+C47+C49 -> 34.485 | D50: =D39+D41+D43+D45+D47+D49 -> 75.495 | E50: =E39+E41+E43+E45+E47+E49 -> 59.115 | F50: =F39+F41+F43+F45+F47+F49 -> 49.035 | G50: =G39+G41+G43+G45+G47+G49 -> 41.055 | H50: =H39+H41+H43+H45+H47+H49 -> 40.005 | I50: =I39+I41+I43+I45+I47+I49 -> 30.345 | K50: =SUM(K40:K48) -> 0 | O50: Vegetarian | P50: 3.81
O51: Vegan | P51: 2.89
K52: =K50+K21+K14+K11+K25 -> 2244.2
O53: Calories | P53: 2000
B54: Seachtain 1 | C54: Seachtain 2 | D54: Seachtain 3 | E54: Seachtain 4 | F54: Seachtain 5 | G54: Seachtain 6 | H54: Seachtain 7 | I54: Total
A55: Leictreachas | B55: =C13 -> 18.75 | C55: =D13 -> 0 | D55: =E13 -> 9.375 | E55: =F13 -> 9.375 | F55: =G13 -> 9.375 | G55: =H13 -> 9.375 | H55: =I13 -> 9.375 | I55: =SUM(B55:H55) -> 65.625
A56: Teas | B56: =C16 -> 5.725 | C56: =D16 -> 5.725 | D56: =E16 -> 5.725 | E56: =F16 -> 5.725 | F56: =G16 -> 5.725 | G56: =H16 -> 5.725 | H56: =I16 -> 5.725 | I56: =SUM(B56:H56) -> 40.075
A57: Iompar | B57: =C34 -> 83.605 | C57: =D34 -> 11.775 | D57: =E34 -> 17.53 | E57: =F34 -> 12 | F57: =G34 -> 30.1 | G57: =H34 -> 26.83 | H57: =I34 -> 23.55 | I57: =SUM(B57:H57) -> 205.39
A58: Bia | B58: =C50 -> 34.485 | C58: =D50 -> 75.495 | D58: =E50 -> 59.115 | E58: =F50 -> 49.035 | F58: =G50 -> 41.055 | G58: =H50 -> 40.005 | H58: =I50 -> 30.345 | I58: =SUM(B58:H58) -> 329.535
A59: Total | B59: =SUM(B55:B58) -> 142.565 | C59: =SUM(C55:C58) -> 92.995 | D59: =SUM(D55:D58) -> 91.745 | E59: =SUM(E55:E58) -> 76.135 | F59: =SUM(F55:F58) -> 86.255 | G59: =SUM(G55:G58) -> 81.935 | H59: =SUM(H55:H58) -> 68.995 | I59: =SUM(I55:I58) -> 640.625
