Workbook

Sheet Data Input
A1: Fill in date
A2: 25th Feb | B2: Before you start
B3: No. of people in the house | C3: 4
B4: Reading on electricity meter on 25/2 | C4: 1000
B5: Reading on gas meter on 25/2 | C5: 1000
B6: Average daily calorie intake approx. | C6: 2250
A9: 3rd March | B9: Week 1
B10: What is the reading on your electricity meter this week? (kW/h) | C10: 1200 | D10: ='THE ENGINE!!'!C13 -> 18.75 | E10: kgCO2e
B11: What is the reading on your gas meter this week? (m3) | C11: 1010 | D11: ='THE ENGINE!!'!C16 -> 5.44445 | E11: kgCO2e
B13: How much petrol did you use (car)? (litres) | C13: 5 | D13: ='THE ENGINE!!'!C20 -> 11.775 | E13: kgCO2e
B14: How much diesel did you use (car)? (litres) | C14: 0 | D14: ='THE ENGINE!!'!C22 -> 0 | E14: kgCO2e
B15: How far did you travel by bus? (kms) | C15: 0 | D15: ='THE ENGINE!!'!C24 -> 0 | E15: kgCO2e
B16: How far did you travel by train? (kms) | C16: 100 | D16: ='THE ENGINE!!'!C26 -> 6 | E16: kgCO2e
B17: How far did you travel by light rail? (kms) | C17: 0 | D17: ='THE ENGINE!!'!C28 -> 0 | E17: kgCO2e
B18: How far did you travel by plane? (kms) | C18: 0 | D18: ='THE ENGINE!!'!C30 -> 0 | E18: kgCO2e
B19: How far did you travel by ferry? (kms) | C19: 0 | D19: ='THE ENGINE!!'!C32 -> 0 | E19: kgCO2e
B21: How many days this week did you eat a high meat diet (>100g)? | C21: 3 | D21: ='THE ENGINE!!'!C39 -> 24.26625 | E21: kgCO2e
B22: How many days this week did you eat a medium meat diet (50-100g)? | C22: 3 | D22: ='THE ENGINE!!'!C41 -> 19.00125 | E22: kgCO2e
B23: How many days this week did you eat a low meat diet (<50g)? | C23: 0 | D23: ='THE ENGINE!!'!C43 -> 0 | E23: kgCO2e
B24: How many days this week did you eat a pescetarian diet? | C24: 0 | D24: ='THE ENGINE!!'!C45 -> 0 | E24: kgCO2e
B25: How many days this week did you eat a vegetarian diet? | C25: 0 | D25: ='THE ENGINE!!'!C47 -> 0 | E25: kgCO2e
B26: How many days this week did you eat a vegan diet? | C26: 1 | D26: ='THE ENGINE!!'!C49 -> 3.25125 | E26: kgCO2e
A29: 10th March | B29: Week 2
B30: What is the reading on your electricity meter this week? (kW/h) | C30: 1380 | D30: ='THE ENGINE!!'!D13 -> 16.875 | E30: kgCO2e
B31: What is the reading on your gas meter this week? (m3) | C31: 1030 | D31: ='THE ENGINE!!'!D16 -> 10.8889 | E31: kgCO2e
B33: How much petrol did you use (car)? (litres) | C33: 4 | D33: ='THE ENGINE!!'!D20 -> 9.42 | E33: kgCO2e
B34: How much diesel did you use (car)? (litres) | C34: 0 | D34: ='THE ENGINE!!'!D22 -> 0 | E34: kgCO2e
B35: How far did you travel by bus? (kms) | C35: 0 | D35: ='THE ENGINE!!'!D24 -> 0 | E35: kgCO2e
B36: How far did you travel by train? (kms) | C36: 100 | D36: ='THE ENGINE!!'!D26 -> 6 | E36: kgCO2e
B37: How far did you travel by light rail? (kms) | C37: 0 | D37: ='THE ENGINE!!'!D28 -> 0 | E37: kgCO2e
B38: How far did you travel by plane? (kms) | C38: 0 | D38: ='THE ENGINE!!'!D30 -> 0 | E38: kgCO2e
B39: How far did you travel by ferry? (kms) | C39: 0 | D39: ='THE ENGINE!!'!D32 -> 0 | E39: kgCO2e
B41: How many days this week did you eat a high meat diet (>100g)? | C41: 3 | D41: ='THE ENGINE!!'!D39 -> 24.26625 | E41: kgCO2e
B42: How many days this week did you eat a medium meat diet (50-100g)? | C42: 2 | D42: ='THE ENGINE!!'!D41 -> 12.6675 | E42: kgCO2e
B43: How many days this week did you eat a low meat diet (<50g)? | C43: 1 | D43: ='THE ENGINE!!'!D43 -> 5.25375 | E43: kgCO2e
B44: How many days this week did you eat a pescetarian diet? | C44: 0 | D44: ='THE ENGINE!!'!D45 -> 0 | E44: kgCO2e
B45: How many days this week did you eat a vegetarian diet? | C45: 0 | D45: ='THE ENGINE!!'!D47 -> 0 | E45: kgCO2e
B46: How many days this week did you eat a vegan diet? | C46: 1 | D46: ='THE ENGINE!!'!D49 -> 3.25125 | E46: kgCO2e
A49: 17th March | B49: Week 3
B50: What is the reading on your electricity meter this week? (kW/h) | C50: 1550 | D50: ='THE ENGINE!!'!E13 -> 15.9375 | E50: kgCO2e
B51: What is the reading on your gas meter this week? (m3) | C51: 1055 | D51: ='THE ENGINE!!'!E16 -> 13.611125 | E51: kgCO2e
B53: How much petrol did you use (car)? (litres) | C53: 4 | D53: ='THE ENGINE!!'!E20 -> 9.42 | E53: kgCO2e
B54: How much diesel did you use (car)? (litres) | C54: 0 | D54: ='THE ENGINE!!'!E22 -> 0 | E54: kgCO2e
B55: How far did you travel by bus? (kms) | C55: 0 | D55: ='THE ENGINE!!'!E24 -> 0 | E55: kgCO2e
B56: How far did you travel by train? (kms) | C56: 100 | D56: ='THE ENGINE!!'!E26 -> 6 | E56: kgCO2e
B57: How far did you travel by light rail? (kms) | C57: 0 | D57: ='THE ENGINE!!'!E28 -> 0 | E57: kgCO2e
B58: How far did you travel by plane? (kms) | C58: 0 | D58: ='THE ENGINE!!'!E30 -> 0 | E58: kgCO2e
B59: How far did you travel by ferry? (kms) | C59: 0 | D59: ='THE ENGINE!!'!E32 -> 0 | E59: kgCO2e
B61: How many days this week did you eat a high meat diet (>100g)? | C61: 2 | D61: ='THE ENGINE!!'!E39 -> 16.1775 | E61: kgCO2e
B62: How many days this week did you eat a medium meat diet (50-100g)? | C62: 3 | D62: ='THE ENGINE!!'!E41 -> 19.00125 | E62: kgCO2e
B63: How many days this week did you eat a low meat diet (<50g)? | C63: 0 | D63: ='THE ENGINE!!'!E43 -> 0 | E63: kgCO2e
B64: How many days this week did you eat a pescetarian diet? | C64: 0 | D64: ='THE ENGINE!!'!E45 -> 0 | E64: kgCO2e
B65: How many days this week did you eat a vegetarian diet? | C65: 0 | D65: ='THE ENGINE!!'!E47 -> 0 | E65: kgCO2e
B66: How many days this week did you eat a vegan diet? | C66: 2 | D66: ='THE ENGINE!!'!E49 -> 6.5025 | E66: kgCO2e
A69: 24th March | B69: Week 4
B70: What is the reading on your electricity meter this week? (kW/h) | C70: 1700 | D70: ='THE ENGINE!!'!F13 -> 14.0625 | E70: kgCO2e
B71: What is the reading on your gas meter this week? (m3) | C71: 1075 | D71: ='THE ENGINE!!'!F16 -> 10.8889 | E71: kgCO2e
B73: How much petrol did you use (car)? (litres) | C73: 8 | D73: ='THE ENGINE!!'!F20 -> 18.84 | E73: kgCO2e
B74: How much diesel did you use (car)? (litres) | C74: 0 | D74: ='THE ENGINE!!'!F22 -> 0 | E74: kgCO2e
B75: How far did you travel by bus? (kms) | C75: 0 | D75: ='THE ENGINE!!'!F24 -> 0 | E75: kgCO2e
B76: How far did you travel by train? (kms) | C76: 100 | D76: ='THE ENGINE!!'!F26 -> 6 | E76: kgCO2e
B77: How far did you travel by light rail? (kms) | C77: 0 | D77: ='THE ENGINE!!'!F28 -> 0 | E77: kgCO2e
B78: How far did you travel by plane? (kms) | C78: 0 | D78: ='THE ENGINE!!'!F30 -> 0 | E78: kgCO2e
B79: How far did you travel by ferry? (kms) | C79: 0 | D79: ='THE ENGINE!!'!F32 -> 0 | E79: kgCO2e
B81: How many days this week did you eat a high meat diet (>100g)? | C81: 0 | D81: ='THE ENGINE!!'!F39 -> 0 | E81: kgCO2e
B82: How many days this week did you eat a medium meat diet (50-100g)? | C82: 0 | D82: ='THE ENGINE!!'!F41 -> 0 | E82: kgCO2e
B83: How many days this week did you eat a low meat diet (<50g)? | C83: 7 | D83: ='THE ENGINE!!'!F43 -> 36.77625 | E83: kgCO2e
B84: How many days this week did you eat a pescetarian diet? | C84: 0 | D84: ='THE ENGINE!!'!F45 -> 0 | E84: kgCO2e
B85: How many days this week did you eat a vegetarian diet? | C85: 0 | D85: ='THE ENGINE!!'!F47 -> 0 | E85: kgCO2e
B86: How many days this week did you eat a vegan diet? | C86: 0 | D86: ='THE ENGINE!!'!F49 -> 0 | E86: kgCO2e
A89: 31st March | B89: Week 5
B90: What is the reading on your electricity meter this week? (kW/h) | C90: 1800 | D90: ='THE ENGINE!!'!G13 -> 9.375 | E90: kgCO2e
B91: What is the reading on your gas meter this week? (m3) | C91: 1085 | D91: ='THE ENGINE!!'!G16 -> 5.44445 | E91: kgCO2e
B93: How much petrol did you use (car)? (litres) | C93: 0 | D93: ='THE ENGINE!!'!G20 -> 0 | E93: kgCO2e
B94: How much diesel did you use (car)? (litres) | C94: 0 | D94: ='THE ENGINE!!'!G22 -> 0 | E94: kgCO2e
B95: How far did you travel by bus? (kms) | C95: 50 | D95: ='THE ENGINE!!'!G24 -> 1.15 | E95: kgCO2e
B96: How far did you travel by train? (kms) | C96: 200 | D96: ='THE ENGINE!!'!G26 -> 12 | E96: kgCO2e
B97: How far did you travel by light rail? (kms) | C97: 0 | D97: ='THE ENGINE!!'!G28 -> 0 | E97: kgCO2e
B98: How far did you travel by plane? (kms) | C98: 0 | D98: ='THE ENGINE!!'!G30 -> 0 | E98: kgCO2e
B99: How far did you travel by ferry? (kms) | C99: 0 | D99: ='THE ENGINE!!'!G32 -> 0 | E99: kgCO2e
B101: How many days this week did you eat a high meat diet (>100g)? | C101: 0 | D101: ='THE ENGINE!!'!G39 -> 0 | E101: kgCO2e
B102: How many days this week did you eat a medium meat diet (50-100g)? | C102: 3 | D102: ='THE ENGINE!!'!G41 -> 19.00125 | E102: kgCO2e
B103: How many days this week did you eat a low meat diet (<50g)? | C103: 0 | D103: ='THE ENGINE!!'!G43 -> 0 | E103: kgCO2e
B104: How many days this week did you eat a pescetarian diet? | C104: 2 | D104: ='THE ENGINE!!'!G45 -> 8.7975 | E104: kgCO2e
B105: How many days this week did you eat a vegetarian diet? | C105: 0 | D105: ='THE ENGINE!!'!G47 -> 0 | E105: kgCO2e
B106: How many days this week did you eat a vegan diet? | C106: 2 | D106: ='THE ENGINE!!'!G49 -> 6.5025 | E106: kgCO2e
A109: 7th April | B109: Week 6
B110: What is the reading on your electricity meter this week? (kW/h) | C110: 1900 | D110: ='THE ENGINE!!'!H13 -> 9.375 | E110: kgCO2e
B111: What is the reading on your gas meter this week? (m3) | C111: 1090 | D111: ='THE ENGINE!!'!H16 -> 2.722225 | E111: kgCO2e
B113: How much petrol did you use (car)? (litres) | C113: 0 | D113: ='THE ENGINE!!'!H20 -> 0 | E113: kgCO2e
B114: How much diesel did you use (car)? (litres) | C114: 0 | D114: ='THE ENGINE!!'!H22 -> 0 | E114: kgCO2e
B115: How far did you travel by bus? (kms) | C115: 50 | D115: ='THE ENGINE!!'!H24 -> 1.15 | E115: kgCO2e
B116: How far did you travel by train? (kms) | C116: 50 | D116: ='THE ENGINE!!'!H26 -> 3 | E116: kgCO2e
B117: How far did you travel by light rail? (kms) | C117: 20 | D117: ='THE ENGINE!!'!H28 -> 0.44 | E117: kgCO2e
B118: How far did you travel by plane? (kms) | C118: 0 | D118: ='THE ENGINE!!'!H30 -> 0 | E118: kgCO2e
B119: How far did you travel by ferry? (kms) | C119: 0 | D119: ='THE ENGINE!!'!H32 -> 0 | E119: kgCO2e
B121: How many days this week did you eat a high meat diet (>100g)? | C121: 0 | D121: ='THE ENGINE!!'!H39 -> 0 | E121: kgCO2e
B122: How many days this week did you eat a medium meat diet (50-100g)? | C122: 0 | D122: ='THE ENGINE!!'!H41 -> 0 | E122: kgCO2e
B123: How many days this week did you eat a low meat diet (<50g)? | C123: 0 | D123: ='THE ENGINE!!'!H43 -> 0 | E123: kgCO2e
B124: How many days this week did you eat a pescetarian diet? | C124: 0 | D124: ='THE ENGINE!!'!H45 -> 0 | E124: kgCO2e
...

Sheet Overall statistics and trends
A1: Carbon Neutral Lent
A2: Your total carbon footprint is: | H2: ='THE ENGINE!!'!I59 -> 501.81325 | I2: kgCO2e
A4: The breakdown of you footprint can be found below

Sheet THE ENGINE!!
A1: HELLO! YOU ARE NOW UNDER THE BONNET OF THE CARBON NEUTRAL LENT SPREADSHEET.
A3: Anything you change here may mess up all the beautiful charts etc.
B5: 3.2 | C5: 3.75 | D5: 10.8 | E5: =C5*D5 -> 40.5
A6: Envirolent Data Collection | C6: Week 1 | D6: Week 2 | E6: Week 3 | F6: Week 4 | G6: Week 5 | H6: Week 6 | I6: Week 7 | J6: Total | K6: Carbon total (kg)
A7: Household | M7: Electricity | N7: 0.375
A8: No. of people in the house | B8: ='Data Input'!C3 -> 4
A9: Reading on electricity meter on 26/2 | B9: ='Data Input'!C4 -> 1000
A10: Reading on gas meter on 26/2 | B10: ='Data Input'!C5 -> 1000
A11: Reading on electricity meter at the end of each week | C11: ='Data Input'!C10 -> 1200 | D11: ='Data Input'!C30 -> 1380 | E11: ='Data Input'!C50 -> 1550 | F11: ='Data Input'!C70 -> 1700 | G11: ='Data Input'!C90 -> 1800 | H11: ='Data Input'!C110 -> 1900 | I11: ='Data Input'!C130 -> 1980 | K11: =J11*N7 -> 0 | M11: Diesel | N11: 2.683
C12: =C11-B9 -> 200 | D12: =D11-C11 -> 180 | E12: =E11-D11 -> 170 | F12: =F11-E11 -> 150 | G12: =G11-F11 -> 100 | H12: =H11-G11 -> 100 | I12: =I11-H11 -> 80
A13: Emissions from electricity | C13: =(C12)/$B$8*$N$7 -> 18.75 | D13: =(D12)/$B$8*$N$7 -> 16.875 | E13: =(E12)/$B$8*$N$7 -> 15.9375 | F13: =(F12)/$B$8*$N$7 -> 14.0625 | G13: =(G12)/$B$8*$N$7 -> 9.375 | H13: =(H12)/$B$8*$N$7 -> 9.375 | I13: =(I12)/$B$8*$N$7 -> 7.5 | J13: =SUM(C13:I13) -> 91.875
A14: Gas (KwH) | C14: ='Data Input'!C11 -> 1010 | D14: ='Data Input'!C31 -> 1030 | E14: ='Data Input'!C51 -> 1055 | F14: ='Data Input'!C71 -> 1075 | G14: ='Data Input'!C91 -> 1085 | H14: ='Data Input'!C111 -> 1090 | I14: ='Data Input'!C131 -> 1100 | J14: =SUM(C14:I14) -> 7445 | K14: =J14*N18 -> 16213.572 | M14: Petrol | N14: 2.355
C15: =C14-B10 -> 10 | D15: =D14-C14 -> 20 | E15: =E14-D14 -> 25 | F15: =F14-E14 -> 20 | G15: =G14-F14 -> 10 | H15: =H14-G14 -> 5 | I15: =I14-H14 -> 10
A16: Emissions from heating | C16: =(C15)/$B$8*$N$18 -> 5.44445 | D16: =(D15)/$B$8*$N$18 -> 10.8889 | E16: =(E15)/$B$8*$N$18 -> 13.611125 | F16: =(F15)/$B$8*$N$18 -> 10.8889 | G16: =(G15)/$B$8*$N$18 -> 5.44445 | H16: =(H15)/$B$8*$N$18 -> 2.722225 | I16: =(I15)/$B$8*$N$18 -> 5.44445 | J16: =SUM(C16:I16) -> 54.4445 | M16: Kerosene (heating oil) | N16: 2.957
J17: =SUM(C17:I17) -> 0
A18: Transport | J18: =SUM(C18:I18) -> 0 | M18: Gas m3 | N18: 2.17778
A19: Own car (Petrol) litres used | C19: ='Data Input'!C13 -> 5 | D19: ='Data Input'!C33 -> 4 | E19: ='Data Input'!C53 -> 4 | F19: ='Data Input'!C73 -> 8 | G19: ='Data Input'!C93 -> 0 | H19: ='Data Input'!C113 -> 0 | I19: ='Data Input'!C133 -> 2 | K19: =J19*N14 -> 0
C20: =C19*$N$14 -> 11.775 | D20: =D19*$N$14 -> 9.42 | E20: =E19*$N$14 -> 9.42 | F20: =F19*$N$14 -> 18.84 | G20: =G19*$N$14 -> 0 | H20: =H19*$N$14 -> 0 | I20: =I19*$N$14 -> 4.71 | J20: =SUM(C20:I20) -> 54.165
A21: Own car (Diesel) litres used | C21: ='Data Input'!C14 -> 0 | D21: ='Data Input'!C34 -> 0 | E21: ='Data Input'!C54 -> 0 | F21: ='Data Input'!C74 -> 0 | G21: ='Data Input'!C94 -> 0 | H21: ='Data Input'!C114 -> 0 | I21: ='Data Input'!C134 -> 0 | K21: =J21*N11 -> 0 | M21: Gas m3
C22: =C21*$N$11 -> 0 | D22: =D21*$N$11 -> 0 | E22: =E21*$N$11 -> 0 | F22: =F21*$N$11 -> 0 | G22: =G21*$N$11 -> 0 | H22: =H21*$N$11 -> 0 | I22: =I21*$N$11 -> 0 | J22: =SUM(C22:I22) -> 0
A23: Bus (approx kms travelled) | C23: ='Data Input'!C15 -> 0 | D23: ='Data Input'!C35 -> 0 | E23: ='Data Input'!C55 -> 0 | F23: ='Data Input'!C75 -> 0 | G23: ='Data Input'!C95 -> 50 | H23: ='Data Input'!C115 -> 50 | I23: ='Data Input'!C135 -> 30 | J23: =SUM(C23:I23) -> 130 | K23: =J23*N27 -> 2.99
C24: =C23*$N$27 -> 0 | D24: =D23*$N$27 -> 0 | E24: =E23*$N$27 -> 0 | F24: =F23*$N$27 -> 0 | G24: =G23*$N$27 -> 1.15 | H24: =H23*$N$27 -> 1.15 | I24: =I23*$N$27 -> 0.69 | J24: =J23*$N$27 -> 2.99
A25: Train (approx kms travelled) | C25: ='Data Input'!C16 -> 100 | D25: ='Data Input'!C36 -> 100 | E25: ='Data Input'!C56 -> 100 | F25: ='Data Input'!C76 -> 100 | G25: ='Data Input'!C96 -> 200 | H25: ='Data Input'!C116 -> 50 | I25: ='Data Input'!C136 -> 20 | K25: =J25*N29 -> 0 | M25: Air travel | N25: 0.1753
C26: =C25*$N$29 -> 6 | D26: =D25*$N$29 -> 6 | E26: =E25*$N$29 -> 6 | F26: =F25*$N$29 -> 6 | G26: =G25*$N$29 -> 12 | H26: =H25*$N$29 -> 3 | I26: =I25*$N$29 -> 1.2 | J26: =SUM(C26:I26) -> 40.2
A27: Light rail (approx kms travelled) | C27: ='Data Input'!C17 -> 0 | D27: ='Data Input'!C37 -> 0 | E27: ='Data Input'!C57 -> 0 | F27: ='Data Input'!C77 -> 0 | G27: ='Data Input'!C97 -> 0 | H27: ='Data Input'!C117 -> 20 | I27: ='Data Input'!C137 -> 10 | J27: =SUM(C27:I27) -> 30 | K27: =J27*N31 -> 0.66 | M27: Bus | N27: 0.023
C28: =C27*$N$31 -> 0 | D28: =D27*$N$31 -> 0 | E28: =E27*$N$31 -> 0 | F28: =F27*$N$31 -> 0 | G28: =G27*$N$31 -> 0 | H28: =H27*$N$31 -> 0.44 | I28: =I27*$N$31 -> 0.22 | J28: =SUM(C28:I28) -> 0.66
A29: Plane (approx kms travelled) | C29: ='Data Input'!C18 -> 0 | D29: ='Data Input'!C38 -> 0 | E29: ='Data Input'!C58 -> 0 | F29: ='Data Input'!C78 -> 0 | G29: ='Data Input'!C98 -> 0 | H29: ='Data Input'!C118 -> 0 | I29: ='Data Input'!C138 -> 0 | K29: =J29*N25 -> 0 | M29: Train | N29: 0.06
C30: =C29*$N$25 -> 0 | D30: =D29*$N$25 -> 0 | E30: =E29*$N$25 -> 0 | F30: =F29*$N$25 -> 0 | G30: =G29*$N$25 -> 0 | H30: =H29*$N$25 -> 0 | I30: =I29*$N$25 -> 0 | J30: =SUM(C30:I30) -> 0
A31: Ferry | C31: ='Data Input'!C19 -> 0 | D31: ='Data Input'!C39 -> 0 | E31: ='Data Input'!C59 -> 0 | F31: ='Data Input'!C79 -> 0 | G31: ='Data Input'!C99 -> 0 | H31: ='Data Input'!C119 -> 0 | I31: ='Data Input'!C139 -> 0 | J31: =SUM(C31:I31) -> 0 | K31: =J31*N32 -> 0 | M31: Light rail | N31: 0.022
C32: =C31*$N$32 -> 0 | D32: =D31*$N$32 -> 0 | E32: =E31*$N$32 -> 0 | F32: =F31*$N$32 -> 0 | G32: =G31*$N$32 -> 0 | H32: =H31*$N$32 -> 0 | I32: =I31*$N$32 -> 0 | J32: =SUM(C32:I32) -> 0 | M32: Ferry | N32: 0.12
J33: =SUM(C33:I33) -> 0
C34: =C20+C22+C24+C26+C28+C30+C32 -> 17.775 | D34: =D20+D22+D24+D26+D28+D30+D32 -> 15.42 | E34: =E20+E22+E24+E26+E28+E30+E32 -> 15.42 | F34: =F20+F22+F24+F26+F28+F30+F32 -> 24.84 | G34: =G20+G22+G24+G26+G28+G30+G32 -> 13.15 | H34: =H20+H22+H24+H26+H28+H30+H32 -> 4.59 | I34: =I20+I22+I24+I26+I28+I30+I32 -> 6.82
A35: Food | J35: =SUM(C35:I35) -> 0
A36: Average daily calorie intake approx. | B36: ='Data Input'!C6 -> 2250
A37: For each week, mark in the number of days that you consumed each of the below diets
A38: High meat consumption (>100g) | C38: ='Data Input'!C21 -> 3 | D38: ='Data Input'!C41 -> 3 | E38: ='Data Input'!C61 -> 2 | F38: ='Data Input'!C81 -> 0 | G38: ='Data Input'!C101 -> 0 | H38: ='Data Input'!C121 -> 0 | I38: ='Data Input'!C141 -> 0
C39: =C38*$B$36/$P$53*$P$42 -> 24.26625 | D39: =D38*$B$36/$P$53*$P$42 -> 24.26625 | E39: =E38*$B$36/$P$53*$P$42 -> 16.1775 | F39: =F38*$B$36/$P$53*$P$42 -> 0 | G39: =G38*$B$36/$P$53*$P$42 -> 0 | H39: =H38*$B$36/$P$53*$P$42 -> 0 | I39: =I38*$B$36/$P$53*$P$42 -> 0 | J39: =SUM(C39:I39) -> 64.71
A40: Medium meat consumption (50-100g) | C40: ='Data Input'!C22 -> 3 | D40: ='Data Input'!C42 -> 2 | E40: ='Data Input'!C62 -> 3 | F40: ='Data Input'!C82 -> 0 | G40: ='Data Input'!C102 -> 3 | H40: ='Data Input'!C122 -> 0 | I40: ='Data Input'!C142 -> 0 | K40: =J40*B38 -> 0 | O40: Food | P40: KGCO2/day
C41: =C40*$B$36/$P$53*$P$44 -> 19.00125 | D41: =D40*$B$36/$P$53*$P$44 -> 12.6675 | E41: =E40*$B$36/$P$53*$P$44 -> 19.00125 | F41: =F40*$B$36/$P$53*$P$44 -> 0 | G41: =G40*$B$36/$P$53*$P$44 -> 19.00125 | H41: =H40*$B$36/$P$53*$P$44 -> 0 | I41: =I40*$B$36/$P$53*$P$44 -> 0 | J41: =SUM(C41:I41) -> 69.67125
A42: Low meat consumption (<50g) | C42: ='Data Input'!C23 -> 0 | D42: ='Data Input'!C43 -> 1 | E42: ='Data Input'!C63 -> 0 | F42: ='Data Input'!C83 -> 7 | G42: ='Data Input'!C103 -> 0 | H42: ='Data Input'!C123 -> 0 | I42: ='Data Input'!C143 -> 0 | K42: =J42*B40 -> 0 | O42: High meat consumption (>100g) | P42: 7.19
C43: =C42*$B$36/$P$53*$P$46 -> 0 | D43: =D42*$B$36/$P$53*$P$46 -> 5.25375 | E43: =E42*$B$36/$P$53*$P$46 -> 0 | F43: =F42*$B$36/$P$53*$P$46 -> 36.77625 | G43: =G42*$B$36/$P$53*$P$46 -> 0 | H43: =H42*$B$36/$P$53*$P$46 -> 0 | I43: =I42*$B$36/$P$53*$P$46 -> 0 | J43: =SUM(C43:I43) -> 42.03
A44: FIsh (no meat) | C44: ='Data Input'!C24 -> 0 | D44: ='Data Input'!C44 -> 0 | E44: ='Data Input'!C64 -> 0 | F44: ='Data Input'!C84 -> 0 | G44: ='Data Input'!C104 -> 2 | H44: ='Data Input'!C124 -> 0 | I44: ='Data Input'!C144 -> 0 | J44: ='Data Input'!C164 -> 0 | K44: =J44*B42 -> 0 | O44: Medium meat consumption (50-100) | P44: 5.63
C45: =C44*$B$36/$P$53*$P$48 -> 0 | D45: =D44*$B$36/$P$53*$P$48 -> 0 | E45: =E44*$B$36/$P$53*$P$48 -> 0 | F45: =F44*$B$36/$P$53*$P$48 -> 0 | G45: =G44*$B$36/$P$53*$P$48 -> 8.7975 | H45: =H44*$B$36/$P$53*$P$48 -> 0 | I45: =I44*$B$36/$P$53*$P$48 -> 0 | J45: =SUM(C45:I45) -> 8.7975
A46: Vegetarian | C46: ='Data Input'!C25 -> 0 | D46: ='Data Input'!C45 -> 0 | E46: ='Data Input'!C65 -> 0 | F46: ='Data Input'!C85 -> 0 | G46: ='Data Input'!C105 -> 0 | H46: ='Data Input'!C125 -> 4 | I46: ='Data Input'!C145 -> 3 | J46: ='Data Input'!C165 -> 0 | K46: =J46*B44 -> 0 | O46: Low meat consumption | P46: 4.67
C47: =C46*$B$36/$P$53*$P$50 -> 0 | D47: =D46*$B$36/$P$53*$P$50 -> 0 | E47: =E46*$B$36/$P$53*$P$50 -> 0 | F47: =F46*$B$36/$P$53*$P$50 -> 0 | G47: =G46*$B$36/$P$53*$P$50 -> 0 | H47: =H46*$B$36/$P$53*$P$50 -> 17.145 | I47: =I46*$B$36/$P$53*$P$50 -> 12.85875 | J47: =SUM(C47:I47) -> 30.00375
A48: Vegan | C48: ='Data Input'!C26 -> 1 | D48: ='Data Input'!C46 -> 1 | E48: ='Data Input'!C66 -> 2 | F48: ='Data Input'!C86 -> 0 | G48: ='Data Input'!C106 -> 2 | H48: ='Data Input'!C126 -> 3 | I48: ='Data Input'!C146 -> 4 | K48: =J48*B46 -> 0 | O48: FIsh (no meat) | P48: 3.91
C49: =C48*$B$36/$P$53*$P$51 -> 3.25125 | D49: =D48*$B$36/$P$53*$P$51 -> 3.25125 | E49: =E48*$B$36/$P$53*$P$51 -> 6.5025 | F49: =F48*$B$36/$P$53*$P$51 -> 0 | G49: =G48*$B$36/$P$53*$P$51 -> 6.5025 | H49: =H48*$B$36/$P$53*$P$51 -> 9.75375 | I49: =I48*$B$36/$P$53*$P$51 -> 13.005 | J49: =SUM(C49:I49) -> 42.26625
A50: Food total | C50: =C39+C41+C43+C45+C47+C49 -> 46.51875 | D50: =D39+D41+D43+D45+D47+D49 -> 45.43875 | E50: =E39+E41+E43+E45+E47+E49 -> 41.68125 | F50: =F39+F41+F43+F45+F47+F49 -> 36.77625 | G50: =G39+G41+G43+G45+G47+G49 -> 34.30125 | H50: =H39+H41+H43+H45+H47+H49 -> 26.89875 | I50: =I39+I41+I43+I45+I47+I49 -> 25.86375 | K50: =SUM(K40:K48) -> 0 | O50: Vegetarian | P50: 3.81
O51: Vegan | P51: 2.89
K52: =K50+K21+K14+K11+K25 -> 16213.572
O53: Calories | P53: 2000
B54: Week 1 | C54: Week 2 | D54: Week 3 | E54: Week 4 | F54: Week 5 | G54: Week 6 | H54: Week 7 | I54: Total
A55: Electricity | B55: =C13 -> 18.75 | C55: =D13 -> 16.875 | D55: =E13 -> 15.9375 | E55: =F13 -> 14.0625 | F55: =G13 -> 9.375 | G55: =H13 -> 9.375 | H55: =I13 -> 7.5 | I55: =SUM(B55:H55) -> 91.875
A56: Heating | B56: =C16 -> 5.44445 | C56: =D16 -> 10.8889 | D56: =E16 -> 13.611125 | E56: =F16 -> 10.8889 | F56: =G16 -> 5.44445 | G56: =H16 -> 2.722225 | H56: =I16 -> 5.44445 | I56: =SUM(B56:H56) -> 54.4445
A57: Transport | B57: =C34 -> 17.775 | C57: =D34 -> 15.42 | D57: =E34 -> 15.42 | E57: =F34 -> 24.84 | F57: =G34 -> 13.15 | G57: =H34 -> 4.59 | H57: =I34 -> 6.82 | I57: =SUM(B57:H57) -> 98.015
A58: Food | B58: =C50 -> 46.51875 | C58: =D50 -> 45.43875 | D58: =E50 -> 41.68125 | E58: =F50 -> 36.77625 | F58: =G50 -> 34.30125 | G58: =H50 -> 26.89875 | H58: =I50 -> 25.86375 | I58: =SUM(B58:H58) -> 257.47875
A59: Total | B59: =SUM(B55:B58) -> 88.4882 | C59: =SUM(C55:C58) -> 88.62265 | D59: =SUM(D55:D58) -> 86.649875 | E59: =SUM(E55:E58) -> 86.56765 | F59: =SUM(F55:F58) -> 62.2707 | G59: =SUM(G55:G58) -> 43.585975 | H59: =SUM(H55:H58) -> 45.6282 | I59: =SUM(I55:I58) -> 501.81325
