Workbook

Sheet Data Input
A1: Fill in date
A2: 25th Feb | B2: Before you start
B3: No. of people in the house | C3: 4
B4: Reading on electricity meter on 25/2 | C4: 1000
B5: Reading on gas meter on 25/2 | C5: 1000
B6: Average daily calorie intake approx. | C6: 2250
A9: 3rd March | B9: Week 1
B10: What is the reading on your electricity meter this week? (kW/h) | C10: 1200 | D10: ='THE ENGINE!!'!C13 -> 18.75 | E10: kgCO2e
B11: What is the reading on your gas meter this week? (m3) | C11: 1010 | D11: ='THE ENGINE!!'!C16 -> 5.44445 | E11: kgCO2e
B13: How much petrol did you use (car)? (litres) | C13: 5 | D13: ='THE ENGINE!!'!C20 -> 11.775 | E13: kgCO2e
B14: How much diesel did you use (car)? (litres) | C14: 0 | D14: ='THE ENGINE!!'!C22 -> 0 | E14: kgCO2e
B15: How far did you travel by bus? (kms) | C15: 0 | D15: ='THE ENGINE!!'!C24 -> 0 | E15: kgCO2e
B16: How far did you travel by train? (kms) | C16: 100 | D16: ='THE ENGINE!!'!C26 -> 6 | E16: kgCO2e
B17: How far did you travel by light rail? (kms) | C17: 0 | D17: ='THE ENGINE!!'!C28 -> 0 | E17: kgCO2e
B18: How far did you travel by plane? (kms) | C18: 0 | D18: ='THE ENGINE!!'!C30 -> 0 | E18: kgCO2e
B19: How far did you travel by ferry? (kms) | C19: 0 | D19: ='THE ENGINE!!'!C32 -> 0 | E19: kgCO2e
B21: How many days this week did you eat a high meat diet (>100g)? | C21: 3 | D21: ='THE ENGINE!!'!C39 -> 24.26625 | E21: kgCO2e
B22: How many days this week did you eat a medium meat diet (50-100g)? | C22: 3 | D22: ='THE ENGINE!!'!C41 -> 19.00125 | E22: kgCO2e
B23: How many days this week did you eat a low meat diet (<50g)? | C23: 0 | D23: ='THE ENGINE!!'!C43 -> 0 | E23: kgCO2e
B24: How many days this week did you eat a pescetarian diet? | C24: 0 | D24: ='THE ENGINE!!'!C45 -> 0 | E24: kgCO2e
B25: How many days this week did you eat a vegetarian diet? | C25: 0 | D25: ='THE ENGINE!!'!C47 -> 0 | E25: kgCO2e
B26: How many days this week did you eat a vegan diet? | C26: 1 | D26: ='THE ENGINE!!'!C49 -> 3.25125 | E26: kgCO2e
A29: 10th March | B29: Week 2
B30: What is the reading on your electricity meter this week? (kW/h) | C30: 1380 | D30: ='THE ENGINE!!'!D13 -> 16.875 | E30: kgCO2e
B31: What is the reading on your gas meter this week? (m3) | C31: 1030 | D31: ='THE ENGINE!!'!D16 -> 10.8889 | E31: kgCO2e
B33: How much petrol did you use (car)? (litres) | C33: 4 | D33: ='THE ENGINE!!'!D20 -> 9.42 | E33: kgCO2e
B34: How much diesel did you use (car)? (litres) | C34: 0 | D34: ='THE ENGINE!!'!D22 -> 0 | E34: kgCO2e
B35: How far did you travel by bus? (kms) | C35: 0 | D35: ='THE ENGINE!!'!D24 -> 0 | E35: kgCO2e
B36: How far did you travel by train? (kms) | C36: 100 | D36: ='THE ENGINE!!'!D26 -> 6 | E36: kgCO2e
B37: How far did you travel by light rail? (kms) | C37: 0 | D37: ='THE ENGINE!!'!D28 -> 0 | E37: kgCO2e
B38: How far did you travel by plane? (kms) | C38: 0 | D38: ='THE ENGINE!!'!D30 -> 0 | E38: kgCO2e
B39: How far did you travel by ferry? (kms) | C39: 0 | D39: ='THE ENGINE!!'!D32 -> 0 | E39: kgCO2e
B41: How many days this week did you eat a high meat diet (>100g)? | C41: 3 | D41: ='THE ENGINE!!'!D39 -> 24.26625 | E41: kgCO2e
B42: How many days this week did you eat a medium meat diet (50-100g)? | C42: 2 | D42: ='THE ENGINE!!'!D41 -> 12.6675 | E42: kgCO2e
B43: How many days this week did you eat a low meat diet (<50g)? | C43: 1 | D43: ='THE ENGINE!!'!D43 -> 5.25375 | E43: kgCO2e
B44: How many days this week did you eat a pescetarian diet? | C44: 0 | D44: ='THE ENGINE!!'!D45 -> 0 | E44: kgCO2e
B45: How many days this week did you eat a vegetarian diet? | C45: 0 | D45: ='THE ENGINE!!'!D47 -> 0 | E45: kgCO2e
B46: How many days this week did you eat a vegan diet? | C46: 1 | D46: ='THE ENGINE!!'!D49 -> 3.25125 | E46: kgCO2e
A49: 17th March | B49: Week 3
B50: What is the reading on your electricity meter this week? (kW/h) | C50: 1550 | D50: ='THE ENGINE!!'!E13 -> 15.9375 | E50: kgCO2e
...

Sheet Overall statistics and trends
A1: Carbon Neutral Lent
A2: Your total carbon footprint is: | H2: ='THE ENGINE!!'!I59 -> 501.81325 | I2: kgCO2e
A4: The breakdown of you footprint can be found below

Sheet THE ENGINE!!
A1: HELLO! YOU ARE NOW UNDER THE BONNET OF THE CARBON NEUTRAL LENT SPREADSHEET.
A3: Anything you change here may mess up all the beautiful charts etc.
B5: 3.2 | C5: 3.75 | D5: 10.8 | E5: =C5*D5 -> 40.5
A6: Envirolent Data Collection | C6: Week 1 | D6: Week 2 | E6: Week 3 | F6: Week 4 | G6: Week 5 | H6: Week 6 | I6: Week 7 | J6: Total | K6: Carbon total (kg)
A7: Household | M7: Electricity | N7: 0.375
A8: No. of people in the house | B8: ='Data Input'!C3 -> 4
A9: Reading on electricity meter on 26/2 | B9: ='Data Input'!C4 -> 1000
A10: Reading on gas meter on 26/2 | B10: ='Data Input'!C5 -> 1000
A11: Reading on electricity meter at the end of each week | C11: ='Data Input'!C10 -> 1200 | D11: ='Data Input'!C30 -> 1380 | E11: ='Data Input'!C50 -> 1550 | F11: ='Data Input'!C70 -> 1700 | G11: ='Data Input'!C90 -> 1800 | H11: ='Data Input'!C110 -> 1900 | I11: ='Data Input'!C130 -> 1980 | K11: =J11*N7 -> 0 | M11: Diesel | N11: 2.683
C12: =C11-B9 -> 200 | D12: =D11-C11 -> 180 | E12: =E11-D11 -> 170 | F12: =F11-E11 -> 150 | G12: =G11-F11 -> 100 | H12: =H11-G11 -> 100 | I12: =I11-H11 -> 80
A13: Emissions from electricity | C13: =(C12)/$B$8*$N$7 -> 18.75 | D13: =(D12)/$B$8*$N$7 -> 16.875 | E13: =(E12)/$B$8*$N$7 -> 15.9375 | F13: =(F12)/$B$8*$N$7 -> 14.0625 | G13: =(G12)/$B$8*$N$7 -> 9.375 | H13: =(H12)/$B$8*$N$7 -> 9.375 | I13: =(I12)/$B$8*$N$7 -> 7.5 | J13: =SUM(C13:I13) -> 91.875
A14: Gas (KwH) | C14: ='Data Input'!C11 -> 1010 | D14: ='Data Input'!C31 -> 1030 | E14: ='Data Input'!C51 -> 1055 | F14: ='Data Input'!C71 -> 1075 | G14: ='Data Input'!C91 -> 1085 | H14: ='Data Input'!C111 -> 1090 | I14: ='Data Input'!C131 -> 1100 | J14: =SUM(C14:I14) -> 7445 | K14: =J14*N18 -> 16213.572 | M14: Petrol | N14: 2.355
C15: =C14-B10 -> 10 | D15: =D14-C14 -> 20 | E15: =E14-D14 -> 25 | F15: =F14-E14 -> 20 | G15: =G14-F14 -> 10 | H15: =H14-G14 -> 5 | I15: =I14-H14 -> 10
A16: Emissions from heating | C16: =(C15)/$B$8*$N$18 -> 5.44445 | D16: =(D15)/$B$8*$N$18 -> 10.8889 | E16: =(E15)/$B$8*$N$18 -> 13.611125 | F16: =(F15)/$B$8*$N$18 -> 10.8889 | G16: =(G15)/$B$8*$N$18 -> 5.44445 | H16: =(H15)/$B$8*$N$18 -> 2.722225 | I16: =(I15)/$B$8*$N$18 -> 5.44445 | J16: =SUM(C16:I16) -> 54.4445 | M16: Kerosene (heating oil) | N16: 2.957
J17: =SUM(C17:I17) -> 0
A18: Transport | J18: =SUM(C18:I18) -> 0 | M18: Gas m3 | N18: 2.17778
A19: Own car (Petrol) litres used | C19: ='Data Input'!C13 -> 5 | D19: ='Data Input'!C33 -> 4 | E19: ='Data Input'!C53 -> 4 | F19: ='Data Input'!C73 -> 8 | G19: ='Data Input'!C93 -> 0 | H19: ='Data Input'!C113 -> 0 | I19: ='Data Input'!C133 -> 2 | K19: =J19*N14 -> 0
C20: =C19*$N$14 -> 11.775 | D20: =D19*$N$14 -> 9.42 | E20: =E19*$N$14 -> 9.42 | F20: =F19*$N$14 -> 18.84 | G20: =G19*$N$14 -> 0 | H20: =H19*$N$14 -> 0 | I20: =I19*$N$14 -> 4.71 | J20: =SUM(C20:I20) -> 54.165
A21: Own car (Diesel) litres used | C21: ='Data Input'!C14 -> 0 | D21: ='Data Input'!C34 -> 0 | E21: ='Data Input'!C54 -> 0 | F21: ='Data Input'!C74 -> 0 | G21: ='Data Input'!C94 -> 0 | H21: ='Data Input'!C114 -> 0 | I21: ='Data Input'!C134 -> 0 | K21: =J21*N11 -> 0 | M21: Gas m3
C22: =C21*$N$11 -> 0 | D22: =D21*$N$11 -> 0 | E22: =E21*$N$11 -> 0 | F22: =F21*$N$11 -> 0 | G22: =G21*$N$11 -> 0 | H22: =H21*$N$11 -> 0 | I22: =I21*$N$11 -> 0 | J22: =SUM(C22:I22) -> 0
A23: Bus (approx kms travelled) | C23: ='Data Input'!C15 -> 0 | D23: ='Data Input'!C35 -> 0 | E23: ='Data Input'!C55 -> 0 | F23: ='Data Input'!C75 -> 0 | G23: ='Data Input'!C95 -> 50 | H23: ='Data Input'!C115 -> 50 | I23: ='Data Input'!C135 -> 30 | J23: =SUM(C23:I23) -> 130 | K23: =J23*N27 -> 2.99
C24: =C23*$N$27 -> 0 | D24: =D23*$N$27 -> 0 | E24: =E23*$N$27 -> 0 | F24: =F23*$N$27 -> 0 | G24: =G23*$N$27 -> 1.15 | H24: =H23*$N$27 -> 1.15 | I24: =I23*$N$27 -> 0.69 | J24: =J23*$N$27 -> 2.99
A25: Train (approx kms travelled) | C25: ='Data Input'!C16 -> 100 | D25: ='Data Input'!C36 -> 100 | E25: ='Data Input'!C56 -> 100 | F25: ='Data Input'!C76 -> 100 | G25: ='Data Input'!C96 -> 200 | H25: ='Data Input'!C116 -> 50 | I25: ='Data Input'!C136 -> 20 | K25: =J25*N29 -> 0 | M25: Air travel | N25: 0.1753
C26: =C25*$N$29 -> 6 | D26: =D25*$N$29 -> 6 | E26: =E25*$N$29 -> 6 | F26: =F25*$N$29 -> 6 | G26: =G25*$N$29 -> 12 | H26: =H25*$N$29 -> 3 | I26: =I25*$N$29 -> 1.2 | J26: =SUM(C26:I26) -> 40.2
A27: Light rail (approx kms travelled) | C27: ='Data Input'!C17 -> 0 | D27: ='Data Input'!C37 -> 0 | E27: ='Data Input'!C57 -> 0 | F27: ='Data Input'!C77 -> 0 | G27: ='Data Input'!C97 -> 0 | H27: ='Data Input'!C117 -> 20 | I27: ='Data Input'!C137 -> 10 | J27: =SUM(C27:I27) -> 30 | K27: =J27*N31 -> 0.66 | M27: Bus | N27: 0.023
C28: =C27*$N$31 -> 0 | D28: =D27*$N$31 -> 0 | E28: =E27*$N$31 -> 0 | F28: =F27*$N$31 -> 0 | G28: =G27*$N$31 -> 0 | H28: =H27*$N$31 -> 0.44 | I28: =I27*$N$31 -> 0.22 | J28: =SUM(C28:I28) -> 0.66
A29: Plane (approx kms travelled) | C29: ='Data Input'!C18 -> 0 | D29: ='Data Input'!C38 -> 0 | E29: ='Data Input'!C58 -> 0 | F29: ='Data Input'!C78 -> 0 | G29: ='Data Input'!C98 -> 0 | H29: ='Data Input'!C118 -> 0 | I29: ='Data Input'!C138 -> 0 | K29: =J29*N25 -> 0 | M29: Train | N29: 0.06
C30: =C29*$N$25 -> 0 | D30: =D29*$N$25 -> 0 | E30: =E29*$N$25 -> 0 | F30: =F29*$N$25 -> 0 | G30: =G29*$N$25 -> 0 | H30: =H29*$N$25 -> 0 | I30: =I29*$N$25 -> 0 | J30: =SUM(C30:I30) -> 0
A31: Ferry | C31: ='Data Input'!C19 -> 0 | D31: ='Data Input'!C39 -> 0 | E31: ='Data Input'!C59 -> 0 | F31: ='Data Input'!C79 -> 0 | G31: ='Data Input'!C99 -> 0 | H31: ='Data Input'!C119 -> 0 | I31: ='Data Input'!C139 -> 0 | J31: =SUM(C31:I31) -> 0 | K31: =J31*N32 -> 0 | M31: Light rail | N31: 0.022
C32: =C31*$N$32 -> 0 | D32: =D31*$N$32 -> 0 | E32: =E31*$N$32 -> 0 | F32: =F31*$N$32 -> 0 | G32: =G31*$N$32 -> 0 | H32: =H31*$N$32 -> 0 | I32: =I31*$N$32 -> 0 | J32: =SUM(C32:I32) -> 0 | M32: Ferry | N32: 0.12
J33: =SUM(C33:I33) -> 0
C34: =C20+C22+C24+C26+C28+C30+C32 -> 17.775 | D34: =D20+D22+D24+D26+D28+D30+D32 -> 15.42 | E34: =E20+E22+E24+E26+E28+E30+E32 -> 15.42 | F34: =F20+F22+F24+F26+F28+F30+F32 -> 24.84 | G34: =G20+G22+G24+G26+G28+G30+G32 -> 13.15 | H34: =H20+H22+H24+H26+H28+H30+H32 -> 4.59 | I34: =I20+I22+I24+I26+I28+I30+I32 -> 6.82
A35: Food | J35: =SUM(C35:I35) -> 0
A36: Average daily calorie intake approx. | B36: ='Data Input'!C6 -> 2250
A37: For each week, mark in the number of days that you consumed each of the below diets
A38: High meat consumption (>100g) | C38: ='Data Input'!C21 -> 3 | D38: ='Data Input'!C41 -> 3 | E38: ='Data Input'!C61 -> 2 | F38: ='Data Input'!C81 -> 0 | G38: ='Data Input'!C101 -> 0 | H38: ='Data Input'!C121 -> 0 | I38: ='Data Input'!C141 -> 0
C39: =C38*$B$36/$P$53*$P$42 -> 24.26625 | D39: =D38*$B$36/$P$53*$P$42 -> 24.26625 | E39: =E38*$B$36/$P$53*$P$42 -> 16.1775 | F39: =F38*$B$36/$P$53*$P$42 -> 0 | G39: =G38*$B$36/$P$53*$P$42 -> 0 | H39: =H38*$B$36/$P$53*$P$42 -> 0 | I39: =I38*$B$36/$P$53*$P$42 -> 0 | J39: =SUM(C39:I39) -> 64.71
A40: Medium meat consumption (50-100g) | C40: ='Data Input'!C22 -> 3 | D40: ='Data Input'!C42 -> 2 | E40: ='Data Input'!C62 -> 3 | F40: ='Data Input'!C82 -> 0 | G40: ='Data Input'!C102 -> 3 | H40: ='Data Input'!C122 -> 0 | I40: ='Data Input'!C142 -> 0 | K40: =J40*B38 -> 0 | O40: Food | P40: KGCO2/day
C41: =C40*$B$36/$P$53*$P$44 -> 19.00125 | D41: =D40*$B$36/$P$53*$P$44 -> 12.6675 | E41: =E40*$B$36/$P$53*$P$44 -> 19.00125 | F41: =F40*$B$36/$P$53*$P$44 -> 0 | G41: =G40*$B$36/$P$53*$P$44 -> 19.00125 | H41: =H40*$B$36/$P$53*$P$44 -> 0 | I41: =I40*$B$36/$P$53*$P$44 -> 0 | J41: =SUM(C41:I41) -> 69.67125
A42: Low meat consumption (<50g) | C42: ='Data Input'!C23 -> 0 | D42: ='Data Input'!C43 -> 1 | E42: ='Data Input'!C63 -> 0 | F42: ='Data Input'!C83 -> 7 | G42: ='Data Input'!C103 -> 0 | H42: ='Data Input'!C123 -> 0 | I42: ='Data Input'!C143 -> 0 | K42: =J42*B40 -> 0 | O42: High meat consumption (>100g) | P42: 7.19
...
